Workbook

Sheet 2022학년도 모집인원
B2: 2022학년도 신입학 정시 모집단위별 모집인원 총괄표(수시 미충원인원 포함)
M3: [단위 : 명]
B4: 모집단위명 | D4: 입학 정원 | E4: 정원내 | H4: 정원외 | O4: 총계
E5: 수능위주 | G5: 소계 | H5: 수시 | N5: 소계
E6: 일반전형 | H6: 학생부교과 | L6: 실기위주
E7: 당초 인원 | F7: 이월 인원 | H7: 고른기회대상자 | L7: 재외국민 | M7: 외국인
A8: 코드 | H8: 농어촌 학생 | I8: 장애인등 대상자 | J8: 서해5도 학생 | K8: 특성화등 고졸 재직자
A9: 110 | B9: 인문융합공공인재학부 | C9: 문예창작미디어콘텐츠홍보전공, 영미언어문학전공, 공공행정전공 | D9: 80 | E9: 33 | F9: =VLOOKUP(A9,Sheet1!$A$1:$B$19,2,FALSE) -> 2 | G9: =SUM(E9:F9) -> 35 | I9: 1 | J9: 5 | L9: 20 | M9: 제한 없음 | N9: 0 | O9: =SUM(G9,N9) -> 35
A10: 120 | B10: 법경영학부 | C10: 법학전공, 경영학전공 | D10: 82 | E10: 28 | F10: =VLOOKUP(A10,Sheet1!$A$1:$B$19,2,FALSE) -> 4 | G10: =SUM(E10:F10) -> 32 | N10: 0 | O10: =SUM(G10,N10) -> 32
A11: 210 | B11: 웰니스산업융합학부 | C11: 의류산업학전공, 아동가족복지학전공, 식품영양학전공, 웰니스스포츠과학전공 | D11: 86 | E11: 28 | F11: =VLOOKUP(A11,Sheet1!$A$1:$B$19,2,FALSE) -> 1 | G11: =SUM(E11:F11) -> 29 | N11: 0 | O11: =SUM(G11,N11) -> 29
A12: 310 | B12: 식물자원조경학부 | C12: 식물생명환경전공, 조경학전공 | D12: 92 | E12: 26 | F12: =VLOOKUP(A12,Sheet1!$A$1:$B$19,2,FALSE) -> 1 | G12: =SUM(E12:F12) -> 27 | H12: 1 | N12: 1 | O12: =SUM(G12,N12) -> 28
A13: 320 | B13: 동물생명융합학부 | C13: 동물자원과학전공, 생물산업응용전공 | D13: 65 | E13: 22 | F13: =VLOOKUP(A13,Sheet1!$A$1:$B$19,2,FALSE) -> 2 | G13: =SUM(E13:F13) -> 24 | N13: 0 | O13: =SUM(G13,N13) -> 24
A14: 330 | B14: 생명공학부 | C14: 원예생명공학전공, 응용생명공학전공 | D14: 61 | E14: 22 | F14: =VLOOKUP(A14,Sheet1!$A$1:$B$19,2,FALSE) -> 2 | G14: =SUM(E14:F14) -> 24 | N14: 0 | O14: =SUM(G14,N14) -> 24
A15: 410 | B15: 건설환경공학부 | C15: 토목공학전공, 환경공학전공 | D15: 81 | E15: 24 | F15: =VLOOKUP(A15,Sheet1!$A$1:$B$19,2,FALSE) -> 3 | G15: =SUM(E15:F15) -> 27 | N15: 0 | O15: =SUM(G15,N15) -> 27
A16: 420 | B16: 사회안전시스템공학부 | C16: 지역자원시스템공학전공, 안전공학전공 | D16: 77 | E16: 24 | F16: =VLOOKUP(A16,Sheet1!$A$1:$B$19,2,FALSE) -> 1 | G16: =SUM(E16:F16) -> 25 | N16: 0 | O16: =SUM(G16,N16) -> 25 | U16: =SUM(Q9:Q11)+Q18 -> 0
A17: 430 | B17: 식품생명화학공학부 | C17: 식품생명공학전공, 화학공학전공 | D17: 89 | E17: 31 | F17: =VLOOKUP(A17,Sheet1!$A$1:$B$19,2,FALSE) -> 2 | G17: =SUM(E17:F17) -> 33 | N17: 0 | O17: =SUM(G17,N17) -> 33
A18: 440 | B18: 컴퓨터응용수학부 | C18: 소프트웨어&서비스컴퓨팅전공, 소프트웨어융합전공, 응용수학전공 | D18: 73 | E18: 23 | F18: =VLOOKUP(A18,Sheet1!$A$1:$B$19,2,FALSE) -> 3 | G18: =SUM(E18:F18) -> 26 | N18: 0 | O18: =SUM(G18,N18) -> 26
A19: 450 | B19: ICT로봇기계공학부 | C19: ICT로봇공학전공, 기계공학전공 | D19: 80 | E19: 24 | F19: =VLOOKUP(A19,Sheet1!$A$1:$B$19,2,FALSE) -> 4 | G19: =SUM(E19:F19) -> 28 | N19: 0 | O19: =SUM(G19,N19) -> 28
A20: 460 | B20: 전자전기공학부 | C20: 전자공학전공, 전기공학전공 | D20: 80 | E20: 23 | F20: =VLOOKUP(A20,Sheet1!$A$1:$B$19,2,FALSE) -> 0 | G20: =SUM(E20:F20) -> 23 | H20: 1 | N20: 1 | O20: =SUM(G20,N20) -> 24
A21: 471 | B21: 디자인건축융합학부 | C21: 디자인전공-무실기 | D21: 55 | F21: =VLOOKUP(A21,Sheet1!$A$1:$B$19,2,FALSE) -> 0 | G21: =SUM(E21:F21) -> 0 | N21: 0 | O21: =SUM(G21,N21) -> 0
A22: 472 | C22: 디자인전공-실기 | E22: 40 | G22: =SUM(E22:F22) -> 40 | N22: 0 | O22: =SUM(G22,N22) -> 40
A23: 473 | C23: 건축학전공(5년제) | D23: 17 | E23: 6 | F23: =VLOOKUP(A23,Sheet1!$A$1:$B$19,2,FALSE) -> 1 | G23: =SUM(E23:F23) -> 7 | N23: 0 | O23: =SUM(G23,N23) -> 7
A24: 474 | C24: 건축공학전공(4년제) | D24: 17 | E24: 5 | F24: =VLOOKUP(A24,Sheet1!$A$1:$B$19,2,FALSE) -> 1 | G24: =SUM(E24:F24) -> 6 | H24: 1 | N24: 1 | O24: =SUM(G24,N24) -> 7
B25: 주간 | C25: 소계 | D25: 1035 | E25: 359 | F25: =SUM(F9:F24) -> 27 | G25: =SUM(E25:F25) -> 386 | H25: =SUM(H9:H24) -> 3 | I25: =I9 -> 1 | J25: =J9 -> 5 | L25: =L9 -> 20 | N25: 29 | O25: =SUM(G25,N25) -> 415
A26: 510 | B26: 건설환경공학부(야) | C26: 토목공학전공(야) | D26: 20 | E26: 7 | F26: =VLOOKUP(A26,Sheet1!$A$1:$B$19,2,FALSE) -> 3 | G26: =SUM(E26:F26) -> 10 | L26: 1 | M26: 제한 없음 | N26: 0 | O26: =SUM(G26,N26) -> 10
A27: 520 | B27: 식품생명화학공학부(야) | C27: 식품생명공학전공(야) | D27: 26 | E27: 8 | F27: =VLOOKUP(A27,Sheet1!$A$1:$B$19,2,FALSE) -> 2 | G27: =SUM(E27:F27) -> 10 | N27: 0 | O27: =SUM(G27,N27) -> 10
B28: 법경영학부(야) | C28: 레저스포츠매니지먼트(야) | G28: =SUM(E28:F28) -> 0 | K28: 18 | N28: 0 | O28: =SUM(G28,N28) -> 0
B29: 인문융합공공인재학부(야) | C29: 노동복지전공(야) | G29: =SUM(E29:F29) -> 0 | K29: 18 | N29: 0 | O29: =SUM(G29,N29) -> 0
B30: 야간 | C30: 소계 | D30: 46 | E30: 15 | F30: =SUM(F26:F29) -> 5 | G30: =SUM(E30:F30) -> 20 | H30: 0 | J30: 0 | K30: 36 | L30: 1 | M30: 0 | N30: 37 | O30: =SUM(G30,N30) -> 57
B31: 계 | D31: 1081 | E31: 374 | F31: =SUM(F25,F30) -> 32 | G31: =SUM(E31:F31) -> 406 | H31: =SUM(H25,H30) -> 3 | I31: =SUM(I25,I30) -> 1 | J31: =SUM(J25,J30) -> 5 | K31: =SUM(K25,K30) -> 36 | L31: =SUM(L25,L30) -> 21 | M31: 0 | N31: 66 | O31: =SUM(G31,N31) -> 472
B32: ＊장애인등 대상자 모집단위 : 법경영학부, 웰니스산업융합학부, 동물생명융합학부, 생명공학부, 건설환경공학부, 사회안전시스템공학부, 컴퓨터응용수학부, ICT로봇기계공학부, 전자전기공학부, 디자인건축융합학부 건축학전공(5년제)

Sheet Sheet1
A1: 110 | B1: 2
A2: 120 | B2: 4
A3: 210 | B3: 1
A4: 214 | B4: 0
A5: 215 | B5: 0
A6: 310 | B6: 1
A7: 320 | B7: 2
A8: 330 | B8: 2
A9: 410 | B9: 3
A10: 420 | B10: 1
A11: 430 | B11: 2
A12: 440 | B12: 3
... A19: 520 | B19: 2
